BEGIN:VCALENDAR
VERSION:2.0
PRODID:-//Plone.org//NONSGML plone.app.event//EN
X-WR-TIMEZONE:Pacific/Auckland
BEGIN:VEVENT
SUMMARY:2013 - 2014 Intergalactic Series Race 7
DTSTART;VALUE=DATE-TIME:20140412T010000Z
DTEND;VALUE=DATE-TIME:20140412T033000Z
DTSTAMP;VALUE=DATE-TIME:20260421T234257Z
UID:5b5fe86dadf14a88b2c891d55dfce4fe
CATEGORIES:Race Series
CREATED;VALUE=DATE-TIME:20130730T014524Z
LAST-MODIFIED;VALUE=DATE-TIME:20130730T015825Z
LOCATION:Naval Point Club Lyttelton
URL:https://www.rclass.org/seasons/2013/2013-2014-intergalactic-series-rac
 e-7
END:VEVENT
END:VCALENDAR
